BEGIN:VCALENDAR
VERSION:2.0
PRODID:icalendar-ruby
CALSCALE:GREGORIAN
METHOD:PUBLISH
BEGIN:VEVENT
DTSTAMP:20260424T163449Z
UID:11-1394991@emily2point0.tithelysetup2.com
DTSTART:20261001T010000Z
DTEND:20261001T030000Z
CLASS:PUBLIC
CREATED:20260424T080830
DESCRIPTION:
LAST-MODIFIED:20260424T080830
LOCATION:
SUMMARY:Awana
URL;VALUE=URI:https://emily2point0.tithelysetup2.com/events/awana/2026-09-3
 0
ATTACH;FILENAME=AWANA2.jpg;FMTTYPE=image/jpeg:https://dq5pwpg1q8ru0.cloudfr
 ont.net/2024/12/02/13/10/26/e7e171e2-789a-4aa3-91fd-d4c7baeb8124/AWANA2.jp
 g
END:VEVENT
END:VCALENDAR
