BEGIN:VCALENDAR
VERSION:2.0
PRODID:icalendar-ruby
CALSCALE:GREGORIAN
METHOD:PUBLISH
BEGIN:VEVENT
DTSTAMP:20260424T110820Z
UID:13-1393928@emily2point0.tithelysetup2.com
DTSTART:20260916T010000Z
DTEND:20260916T030000Z
CLASS:PUBLIC
CREATED:20260423T194720
DESCRIPTION:
LAST-MODIFIED:20260423T194720
LOCATION:
SUMMARY:Food Pantry
URL;VALUE=URI:https://emily2point0.tithelysetup2.com/events/food-pantry/202
 6-09-15
ATTACH;FILENAME=NCCares.png;FMTTYPE=image/png:https://dq5pwpg1q8ru0.cloudfr
 ont.net/2024/12/02/13/13/21/140dc31f-6fac-4a09-a23f-9152be0ce230/NCCares.p
 ng
END:VEVENT
END:VCALENDAR
